BEGIN:VCALENDAR
CALSCALE:GREGORIAN
X-WR-TIMEZONE;VALUE=TEXT:Pacific Standard Time
METHOD:PUBLISH
PRODID:-//Flo Inc.//FloSoft//EN
BEGIN:VEVENT
DTSTART;TZID=Pacific Standard Time:20260424T210000Z
DTSTAMP:20260424T210000Z
DTEND;TZID=Pacific Standard Time:20260424T220000Z
SUMMARY;ENCODING=QUOTED-PRINTABLE:Testimony of Korean Survivors of Hiroshima/Nagasaki
DESCRIPTION;ENCODING=QUOTED-PRINTABLE:Survivors of the atomic blasts in Hiroshima and Nagasaki share their stories 
LOCATION;ENCODING=QUOTED-PRINTABLE:Bunche Hall, Rm 10383 
UID:1760120260424T210000ZTestimony of Korean Survivors of Hiroshima/Nagasaki
PRIORITY:3
BEGIN:VALARM
TRIGGER;VALUE=DURATION:-P1D
ACTION:DISPLAY
DESCRIPTION:Event reminder
END:VALARM
END:VEVENT
END:VCALENDAR
