BEGIN:VCALENDAR
CALSCALE:GREGORIAN
X-WR-TIMEZONE;VALUE=TEXT:Pacific Standard Time
METHOD:PUBLISH
PRODID:-//Flo Inc.//FloSoft//EN
BEGIN:VEVENT
DTSTART;TZID=Pacific Standard Time:20260429T160000Z
DTSTAMP:20260429T160000Z
DTEND;TZID=Pacific Standard Time:20260429T230000Z
SUMMARY;ENCODING=QUOTED-PRINTABLE:The Visual Culture of Algeria Through Exchange, Circulation, and Global Networks
DESCRIPTION;ENCODING=QUOTED-PRINTABLE:This one-day hybrid colloquium will bring together early-career scholars working on the visual culture of Algeria from the Ottoman period to the present. It focuses on the movement of artists, artworks, materials, and ideas across local, regional, and global networks, situating Algerian visual culture as a site of innovation, negotiation, and exchange. Rather than treat the French invasion of Algiers in 1830 as a definitive point of rupture, the colloquium invites contributions that emphasize continuities and transformations in artistic production over time, cutting across conventional precolonial/colonial/postcolonial divisions.


LOCATION;ENCODING=QUOTED-PRINTABLE:Bunche Hall, Rm 10383 &amp; Online
UID:1752420260429T160000ZThe Visual Culture of Algeria Through Exchange, Circulation, and Global Networks
PRIORITY:3
BEGIN:VALARM
TRIGGER;VALUE=DURATION:-P1D
ACTION:DISPLAY
DESCRIPTION:Event reminder
END:VALARM
END:VEVENT
END:VCALENDAR
