BEGIN:VCALENDAR
CALSCALE:GREGORIAN
X-WR-TIMEZONE;VALUE=TEXT:Pacific Standard Time
METHOD:PUBLISH
PRODID:-//Flo Inc.//FloSoft//EN
BEGIN:VEVENT
DTSTART;TZID=Pacific Standard Time:20211028T180000Z
DTSTAMP:20211028T180000Z
DTEND;TZID=Pacific Standard Time:20211028T193000Z
SUMMARY;ENCODING=QUOTED-PRINTABLE:Speech Skills We Need in the ‘Age of Untact’
DESCRIPTION;ENCODING=QUOTED-PRINTABLE:Ji Yeon Kim, News Anchor, Seoul Broadcasting System
LOCATION;ENCODING=QUOTED-PRINTABLE:
UID:1526520211028T180000ZSpeech Skills We Need in the ‘Age of Untact’
PRIORITY:3
BEGIN:VALARM
TRIGGER;VALUE=DURATION:-P1D
ACTION:DISPLAY
DESCRIPTION:Event reminder
END:VALARM
END:VEVENT
END:VCALENDAR
